BEGIN:VCALENDAR
VERSION:2.0
PRODID:spatie/icalendar-generator
DESCRIPTION:Veranstaltungen von HVE Broatnstoana Fischbachau
X-WR-CALDESC:Veranstaltungen von HVE Broatnstoana Fischbachau
REFRESH-INTERVAL;VALUE=DURATION:PT1440M
X-PUBLISHED-TTL:PT1440M
BEGIN:VTIMEZONE
TZID:Europe/Berlin
BEGIN:DAYLIGHT
DTSTART:20220327T020000Z
TZOFFSETFROM:+0100
TZOFFSETTO:+0200
END:DAYLIGHT
BEGIN:STANDARD
DTSTART:20221030T030000Z
TZOFFSETFROM:+0200
TZOFFSETTO:+0100
END:STANDARD
END:VTIMEZONE
BEGIN:VTIMEZONE
TZID:UTC
BEGIN:STANDARD
DTSTART:20250724T142656Z
TZOFFSETFROM:+0000
TZOFFSETTO:+0000
END:STANDARD
END:VTIMEZONE
BEGIN:VEVENT
UID:12-11
DTSTAMP:20260420T142656Z
SUMMARY:100-jähriges Gründungsfest Eyrain-Jedling
LOCATION:Eyrain-Jedling
ORGANIZER;CN=Maria Funk:MAILTO:funkmaria10@gmail.com
DTSTART;TZID=Europe/Berlin;VALUE=DATE:20220814
DTEND;TZID=Europe/Berlin;VALUE=DATE:20220815
X-ALT-DESC;FMTTYPE=TEXT/HTML:
CATEGORIES:General
URL;VALUE=URI:https://www.trachtenverein-fischbachau.org/mc-events/100-jaeh
 riges-gruendungsfest-eyrain-jedling/
METHOD:PUBLISH
END:VEVENT
END:VCALENDAR